BEGIN:VCALENDAR
VERSION:2.0
PRODID:-//O Portal da sua Alimentação Espiritual - ECPv6.15.20//NONSGML v1.0//EN
CALSCALE:GREGORIAN
METHOD:PUBLISH
X-WR-CALNAME:O Portal da sua Alimentação Espiritual
X-ORIGINAL-URL:https://www.paodejuda.com.br
X-WR-CALDESC:Eventos para O Portal da sua Alimentação Espiritual
REFRESH-INTERVAL;VALUE=DURATION:PT1H
X-Robots-Tag:noindex
X-PUBLISHED-TTL:PT1H
BEGIN:VTIMEZONE
TZID:America/Sao_Paulo
BEGIN:STANDARD
TZOFFSETFROM:-0300
TZOFFSETTO:-0300
TZNAME:-03
DTSTART:20250101T000000
END:STANDARD
END:VTIMEZONE
BEGIN:VEVENT
DTSTART;TZID=America/Sao_Paulo:20260424T190000
DTEND;TZID=America/Sao_Paulo:20260424T210000
DTSTAMP:20260424T060534
CREATED:20251019T113341Z
LAST-MODIFIED:20260406T173856Z
UID:46375-1777057200-1777064400@www.paodejuda.com.br
SUMMARY:Culto de Recepção - Canela/RS - MR 10
DESCRIPTION:
URL:https://www.paodejuda.com.br/encontros/culto-de-recepcao-canela-rs-mr-10/
LOCATION:MR 10 – Canela/RS – Templo da Igreja do Senhor Jesus Cristo\, Rua Tio Elias\, 653\, Canela\, RS\, Brazil
CATEGORIES:Encontro
END:VEVENT
END:VCALENDAR